BEGIN:VCALENDAR
VERSION:2.0
PRODID:icalendar-ruby
CALSCALE:GREGORIAN
METHOD:PUBLISH
BEGIN:VEVENT
DTSTAMP:20260419T184223Z
UID:7-265178@sumcnj.org
DTSTART:20260927T150000Z
DTEND:20260927T160500Z
CLASS:PUBLIC
CREATED:20260419T131518
DESCRIPTION:
LAST-MODIFIED:20260419T131518
LOCATION:Sanctuary
SUMMARY:Sunday 11:00 AM Traditional Service
URL;VALUE=URI:https://sumcnj.org/events/sunday-11-00-am-traditional-service
 /2026-09-27
ATTACH;FILENAME=Worship-Photo.jpg;FMTTYPE=image/jpeg:https://dq5pwpg1q8ru0.
 cloudfront.net/2025/12/23/17/00/59/91536258-d9b7-455e-985f-427cf32f360f/Wo
 rship-Photo.jpg
END:VEVENT
END:VCALENDAR
